BEGIN:VCALENDAR
PRODID:-//eluceo/ical//2.0/EN
VERSION:2.0
CALSCALE:GREGORIAN
BEGIN:VEVENT
UID:d9e5ed1a317bd440327c9fa5d29eff6f
DTSTAMP:20260420T083441Z
SUMMARY:Zaterdag 14 maart- Forza Pasta Rotary Houthalen Midden-Limburg
DESCRIPTION:Website: https://www.zaalberkenveld.be
URL:https://houthalen-midden-limburg.rotary2140.org/en/agenda/show/94681
DTSTART;TZID=Europe/Zurich:20260314T100000
DTEND;TZID=Europe/Zurich:20260314T220000
LOCATION:Zaal Berkenveld - Bakkersstraat 20/B\, 3530 Houthalen-Helchteren
CATEGORIES:Rotary
END:VEVENT
BEGIN:VTIMEZONE
TZID:Europe/Zurich
BEGIN:STANDARD
DTSTART:20260314T100000
TZNAME:CET
TZOFFSETTO:+0100
TZOFFSETFROM:+0100
END:STANDARD
END:VTIMEZONE
END:VCALENDAR
